BEGIN:VCALENDAR
VERSION:2.0
PRODID:-//ChamberMaster//Event Calendar 2.0//EN
METHOD:PUBLISH
X-PUBLISHED-TTL:P3D
REFRESH-INTERVAL:P3D
CALSCALE:GREGORIAN
BEGIN:VEVENT
DTSTART:20241103T170000Z
DTEND:20241103T190000Z
X-MICROSOFT-CDO-ALLDAYEVENT:FALSE
SUMMARY:Annual Turkey and Ham Dinner
DESCRIPTION:You're Invited!\n\n\n\nSacred Heart Annual Turkey Dinner will be taking place on Sunday\, November 3rd from 11:00AM - 1:00PM! This will take place at the Sacred Heart Catholic Hall. The dinner will include turkey\, ham and all the fixings plus dessert and a drink! Adults are $14\, Children 6-10 are $6 and Children 6 and Under are Free!\n\n\n\nCome see us!
X-ALT-DESC;FMTTYPE=text/html:You&#39\;re Invited!<br />\n<br />\nSacred Heart Annual Turkey Dinner will be taking place on Sunday\, November 3rd from 11:00AM - 1:00PM! This will take place at the Sacred Heart Catholic Hall. The dinner will include turkey\, ham and all the fixings plus dessert and a drink! Adults are $14\, Children 6-10 are $6 and Children 6 and Under are Free!<br />\n<br />\nCome see us!
LOCATION:Sacred Heart Catholic Hall 102 E. Caster Dexter\, Mo 63841
UID:e.2680.4798
SEQUENCE:3
DTSTAMP:20260423T175917Z
URL:https://data.dexterchamber.com/events/details/annual-turkey-and-ham-dinner-11-03-2024-4798
END:VEVENT

END:VCALENDAR
