BEGIN:VCALENDAR
VERSION:2.0
PRODID:-//ChamberMaster//Event Calendar 2.0//EN
METHOD:PUBLISH
X-PUBLISHED-TTL:P3D
REFRESH-INTERVAL:P3D
CALSCALE:GREGORIAN
BEGIN:VEVENT
DTSTART:20251102T170000Z
DTEND:20251102T190000Z
X-MICROSOFT-CDO-ALLDAYEVENT:FALSE
SUMMARY:Annual Turkey Dinner
DESCRIPTION:Annual Turkey Dinner at Sacred Heart Parish Center
X-ALT-DESC;FMTTYPE=text/html:Annual Turkey Dinner at Sacred Heart Parish Center
LOCATION:Sacred Heart Catholic Hall
UID:e.2680.4799
SEQUENCE:3
DTSTAMP:20260422T070737Z
URL:https://data.dexterchamber.com/events/details/annual-turkey-dinner-11-02-2025-4799
END:VEVENT

END:VCALENDAR
