BEGIN:VCALENDAR
VERSION:2.0
PRODID:-//ChamberMaster//Event Calendar 2.0//EN
METHOD:PUBLISH
X-PUBLISHED-TTL:P3D
REFRESH-INTERVAL:P3D
CALSCALE:GREGORIAN
BEGIN:VEVENT
DTSTART:20250115T180000Z
DTEND:20250115T190000Z
X-MICROSOFT-CDO-ALLDAYEVENT:FALSE
SUMMARY:Grateful Cloudz - Ribbon Cutting
DESCRIPTION:You're Invited!\n\n\n\nJoin us on Wednesday\, January 15th as we celebrate Grateful Cloudz with a ribbon cutting! This event will take place at noon at 903 W. Business 60. We can't wait to see you there!
X-ALT-DESC;FMTTYPE=text/html:You&#39\;re Invited!<br />\n<br />\nJoin us on Wednesday\, January 15th as we celebrate Grateful Cloudz with a ribbon cutting! This event will take place at noon at 903 W. Business 60. We can&#39\;t wait to see you there!
LOCATION:Grateful Cloudz - Vape Shop 903 W. Business 60 Dexter\, Mo 63841
UID:e.2680.5650
SEQUENCE:3
DTSTAMP:20260424T124027Z
URL:https://data.dexterchamber.com/events/details/grateful-cloudz-ribbon-cutting-5650
END:VEVENT

END:VCALENDAR
