BEGIN:VCALENDAR
VERSION:2.0
PRODID:-//ChamberMaster//Event Calendar 2.0//EN
METHOD:PUBLISH
X-PUBLISHED-TTL:P3D
REFRESH-INTERVAL:P3D
CALSCALE:GREGORIAN
BEGIN:VEVENT
DTSTART:20190513T150000Z
DTEND:20190513T160000Z
X-MICROSOFT-CDO-ALLDAYEVENT:FALSE
SUMMARY:GROUNDBREAKING FOR OZARK FEDERAL
DESCRIPTION:GROUNDBREAKING FOR OZARK FEDERAL CREDIT UNION - DEXTER LOCATION
X-ALT-DESC;FMTTYPE=text/html:<p><strong>GROUNDBREAKING FOR OZARK FEDERAL CREDIT UNION - DEXTER LOCATION</strong></p>\n
LOCATION:Hwy Business 60 next to Dexter Queen
UID:e.2680.4734
SEQUENCE:3
DTSTAMP:20260423T150613Z
URL:https://data.dexterchamber.com/events/details/groundbreaking-for-ozark-federal-4734
END:VEVENT

END:VCALENDAR
