BEGIN:VCALENDAR
VERSION:2.0
PRODID:-//ChamberMaster//Event Calendar 2.0//EN
METHOD:PUBLISH
X-PUBLISHED-TTL:P3D
REFRESH-INTERVAL:P3D
CALSCALE:GREGORIAN
BEGIN:VEVENT
DTSTART:20190420T180000Z
DTEND:20190420T190000Z
X-MICROSOFT-CDO-ALLDAYEVENT:FALSE
SUMMARY:Kiwanis Easter Egg Hunt
DESCRIPTION:Kiwanis Annual Easter Egg Hunt
X-ALT-DESC;FMTTYPE=text/html:Kiwanis Annual Easter Egg Hunt
LOCATION:West City Park
UID:e.2680.4590
SEQUENCE:3
DTSTAMP:20260419T123921Z
URL:https://data.dexterchamber.com/events/details/kiwanis-easter-egg-hunt-4590
END:VEVENT

END:VCALENDAR
