BEGIN:VCALENDAR
VERSION:2.0
PRODID:-//ChamberMaster//Event Calendar 2.0//EN
METHOD:PUBLISH
X-PUBLISHED-TTL:P3D
REFRESH-INTERVAL:P3D
CALSCALE:GREGORIAN
BEGIN:VEVENT
DTSTART:20211106T150000Z
DTEND:20211106T190000Z
X-MICROSOFT-CDO-ALLDAYEVENT:FALSE
SUMMARY:Meet Your Local 4-H
DESCRIPTION:Bring your kids to meet local 4-H clubs in the area. We will have spin art\, nerf guns\, roping\, pet care information\, hot dogs\, and lots more. We are always looking for volunteers to lead clubs also.
X-ALT-DESC;FMTTYPE=text/html:Bring your kids to meet local 4-H clubs in the area. We will have spin art\, nerf guns\, roping\, pet care information\, hot dogs\, and lots more. We are always looking for volunteers to lead clubs also.
LOCATION:Orscheln Farm and Home 1525 Hwy Business 60 West\, Dexter\, MO
UID:e.2680.5170
SEQUENCE:3
DTSTAMP:20260421T202549Z
URL:https://data.dexterchamber.com/events/details/meet-your-local-4-h-5170
END:VEVENT

END:VCALENDAR
