BEGIN:VCALENDAR
VERSION:2.0
PRODID:-//ChamberMaster//Event Calendar 2.0//EN
METHOD:PUBLISH
X-PUBLISHED-TTL:P3D
REFRESH-INTERVAL:P3D
CALSCALE:GREGORIAN
BEGIN:VEVENT
DTSTART:20180419T140000Z
DTEND:20180419T180000Z
X-MICROSOFT-CDO-ALLDAYEVENT:FALSE
SUMMARY:True Colors Seminar
DESCRIPTION:What is True Colors and what can it do for me?\n\nTrue Colors  is a model for understanding yourself and others based on your personality temperament. The colors of Orange\, Gold\, Green and Blue are used to differentiate the four central personality styles of True Colors .  Each of us has a combination of these True Colors that make up our personality spectrum\, usually with one of the styles being the most dominant.  Identifying your personality and the personalities of others using True Colors provides you with insights into different motivations\, actions and communication approaches. True Colors works because it is based on true principles and easy to remember and use   in all kinds of circumstances   from personal relationships to professional success.\n\n \n\nFor more information about True Colors go to - https://truecolorsintl.com
X-ALT-DESC;FMTTYPE=text/html:<strong><span style="font-size: 17.5pt\;"><span style="font-family: helvetica\,sans-serif\;"><span style="color: rgb(227\, 108\, 10)\;">What</span></span></span></strong> <strong><span style="font-size: 17.5pt\;"><span style="font-family: helvetica\,sans-serif\;"><span style="color: rgb(204\, 153\, 0)\;">is</span></span></span></strong> <strong><span style="font-size: 17.5pt\;"><span style="font-family: helvetica\,sans-serif\;"><span style="color: rgb(0\, 176\, 80)\;">True</span></span></span></strong> <strong><span style="font-size: 17.5pt\;"><span style="font-family: helvetica\,sans-serif\;"><span style="color: rgb(84\, 141\, 212)\;">Colors</span></span></span></strong> <strong><span style="font-size: 17.5pt\;"><span style="font-family: helvetica\,sans-serif\;"><span style="color: rgb(227\, 108\, 10)\;">and</span></span></span></strong> <strong><span style="font-size: 17.5pt\;"><span style="font-family: helvetica\,sans-serif\;"><span style="color: rgb(204\, 153\, 0)\;">what</span></span></span></strong> <strong><span style="font-size: 17.5pt\;"><span style="font-family: helvetica\,sans-serif\;"><span style="color: rgb(0\, 176\, 80)\;">can</span></span></span></strong> <strong><span style="font-size: 17.5pt\;"><span style="font-family: helvetica\,sans-serif\;"><span style="color: rgb(84\, 141\, 212)\;">it</span></span></span></strong> <strong><span style="font-size: 17.5pt\;"><span style="font-family: helvetica\,sans-serif\;"><span style="color: rgb(227\, 108\, 10)\;">do</span></span></span></strong> <strong><span style="font-size: 17.5pt\;"><span style="font-family: helvetica\,sans-serif\;"><span style="color: rgb(204\, 153\, 0)\;">for</span></span></span></strong> <strong><span style="font-size: 17.5pt\;"><span style="font-family: helvetica\,sans-serif\;"><span style="color: rgb(0\, 176\, 80)\;">me</span></span></span></strong><strong><span style="font-size: 17.5pt\;"><span style="font-family: helvetica\,sans-serif\;"><span style="color: rgb(84\, 141\, 212)\;">?</span></span></span></strong><br />\n<span style="color: rgb(104\, 104\, 104)\;"><span style="font-size: medium\;">True Colors&reg\; is a model for understanding yourself and others based on your personality temperament. The colors of Orange\, Gold\, Green and Blue are used to differentiate the four central personality styles of True Colors&reg\;.&nbsp\; </span><span style="font-size: medium\;">Each of us has a combination of these True Colors that make up our personality spectrum\, usually with one of the styles being the most dominant.</span>&nbsp\; <span style="font-size: medium\;">Identifying your personality and the personalities of others using True Colors provides you with insights into different motivations\, actions and communication approaches. True Colors works because it is based on true principles and easy to remember and use &ndash\; in all kinds of circumstances &ndash\; from personal relationships to professional success.</span></span><br />\n&nbsp\;<br />\n<span style="color: rgb(104\, 104\, 104)\;"><span style="font-size: medium\;">For more information about True Colors go to - https://truecolorsintl.com</span></span><br />\n&nbsp\;<br />\n&nbsp\;
LOCATION:Chamber of Commerce
UID:e.2680.3292
SEQUENCE:3
DTSTAMP:20260423T095014Z
URL:https://data.dexterchamber.com/events/details/true-colors-seminar-3292
END:VEVENT

END:VCALENDAR
